BEGIN:VCALENDAR
VERSION:2.0
PRODID:-//Institute of African Advancement - ECPv6.15.3//NONSGML v1.0//EN
CALSCALE:GREGORIAN
METHOD:PUBLISH
X-ORIGINAL-URL:http://isdpssa.org
X-WR-CALDESC:Events for Institute of African Advancement
REFRESH-INTERVAL;VALUE=DURATION:PT1H
X-Robots-Tag:noindex
X-PUBLISHED-TTL:PT1H
BEGIN:VTIMEZONE
TZID:UTC
BEGIN:STANDARD
TZOFFSETFROM:+0000
TZOFFSETTO:+0000
TZNAME:UTC
DTSTART:20240101T000000
END:STANDARD
END:VTIMEZONE
BEGIN:VEVENT
DTSTART;TZID=UTC:20240727T110000
DTEND;TZID=UTC:20240727T123000
DTSTAMP:20260424T171757
CREATED:20240816T042120Z
LAST-MODIFIED:20240828T194548Z
UID:4257-1722078000-1722083400@isdpssa.org
SUMMARY:Understanding Family Connection Event
DESCRIPTION:Understanding family connection is a community engagement event organized to discuss\, inform\, and navigate the complexities of parentage and immigration with participants to provide opportunity to learn and apply the information in their daily lives.
URL:http://isdpssa.org/event/understanding-family-connection-event/
LOCATION:CN Tower\, 10004 - 104 Ave NW # 1100\, Edmonton\, Alberta\, T5J 0K1\, Canada
CATEGORIES:Family connection
ATTACH;FMTTYPE=image/jpeg:http://isdpssa.org/wp-content/uploads/2024/08/understanding-scaled.jpg
ORGANIZER;CN="Institute of African Advancement":MAILTO:admin@isdpssa.org
END:VEVENT
END:VCALENDAR