BEGIN:VCALENDAR
VERSION:2.0
PRODID:-//Institute of African Advancement - ECPv6.15.3//NONSGML v1.0//EN
CALSCALE:GREGORIAN
METHOD:PUBLISH
X-ORIGINAL-URL:http://isdpssa.org
X-WR-CALDESC:Events for Institute of African Advancement
REFRESH-INTERVAL;VALUE=DURATION:PT1H
X-Robots-Tag:noindex
X-PUBLISHED-TTL:PT1H
BEGIN:VTIMEZONE
TZID:UTC
BEGIN:STANDARD
TZOFFSETFROM:+0000
TZOFFSETTO:+0000
TZNAME:UTC
DTSTART:20230101T000000
END:STANDARD
END:VTIMEZONE
BEGIN:VEVENT
DTSTART;TZID=UTC:20230811T150000
DTEND;TZID=UTC:20230811T170000
DTSTAMP:20260424T170032
CREATED:20230717T201708Z
LAST-MODIFIED:20230717T201708Z
UID:4092-1691766000-1691773200@isdpssa.org
SUMMARY:Government Grants
DESCRIPTION:By Stephanie Potter. \nProvincial Alberta benefits for young and adults in the community to apply and receive available government financial assistance to help daily living expenses.
URL:http://isdpssa.org/event/government-grants/
CATEGORIES:Focus group
ATTACH;FMTTYPE=image/jpeg:http://isdpssa.org/wp-content/uploads/2023/07/choice-color-scaled.jpg
ORGANIZER;CN="Institute of African Advancement":MAILTO:admin@isdpssa.org
END:VEVENT
END:VCALENDAR