BEGIN:VCALENDAR
VERSION:2.0
PRODID:-//Institute of African Advancement - ECPv6.15.3//NONSGML v1.0//EN
CALSCALE:GREGORIAN
METHOD:PUBLISH
X-WR-CALNAME:Institute of African Advancement
X-ORIGINAL-URL:http://isdpssa.org
X-WR-CALDESC:Events for Institute of African Advancement
REFRESH-INTERVAL;VALUE=DURATION:PT1H
X-Robots-Tag:noindex
X-PUBLISHED-TTL:PT1H
BEGIN:VTIMEZONE
TZID:UTC
BEGIN:STANDARD
TZOFFSETFROM:+0000
TZOFFSETTO:+0000
TZNAME:UTC
DTSTART:20230101T000000
END:STANDARD
END:VTIMEZONE
BEGIN:VTIMEZONE
TZID:America/Edmonton
BEGIN:DAYLIGHT
TZOFFSETFROM:-0700
TZOFFSETTO:-0600
TZNAME:MDT
DTSTART:20230312T090000
END:DAYLIGHT
BEGIN:STANDARD
TZOFFSETFROM:-0600
TZOFFSETTO:-0700
TZNAME:MST
DTSTART:20231105T080000
END:STANDARD
END:VTIMEZONE
BEGIN:VEVENT
DTSTART;TZID=UTC:20230923T110000
DTEND;TZID=UTC:20230923T170000
DTSTAMP:20260424T170441
CREATED:20230831T051705Z
LAST-MODIFIED:20230831T051705Z
UID:4199-1695466800-1695488400@isdpssa.org
SUMMARY:Step in Downtown
DESCRIPTION:Steps in downtown is an initiative that encourages walking to effectively achieve sustainable increases in overall physical activity by patronising businesses\, streets and pleasant surroundings that offer many opportunities for relaxation and social contact.
URL:http://isdpssa.org/event/step-in-downtown-2/
LOCATION:CN Tower\, 10004 - 104 Ave NW # 1100\, Edmonton\, Alberta\, T5J 0K1\, Canada
CATEGORIES:Increasing Physical Activity
ATTACH;FMTTYPE=image/jpeg:http://isdpssa.org/wp-content/uploads/2023/08/imageedit_8_4125520912.jpg
ORGANIZER;CN="Institute of African Advancement":MAILTO:admin@isdpssa.org
END:VEVENT
BEGIN:VEVENT
DTSTART;TZID=UTC:20230922T100000
DTEND;TZID=UTC:20230922T170000
DTSTAMP:20260424T170441
CREATED:20230831T042621Z
LAST-MODIFIED:20230831T042621Z
UID:4190-1695376800-1695402000@isdpssa.org
SUMMARY:Step in Downtown
DESCRIPTION:Steps in downtown is an initiative that encourages walking to effectively achieve sustainable increases in overall physical activity by patronising businesses\, streets and pleasant surroundings that offer many opportunities for relaxation and social contact.
URL:http://isdpssa.org/event/step-in-downtown/
LOCATION:CN Tower\, 10004 - 104 Ave NW # 1100\, Edmonton\, Alberta\, T5J 0K1\, Canada
CATEGORIES:Increasing Physical Activity
ATTACH;FMTTYPE=image/jpeg:http://isdpssa.org/wp-content/uploads/2023/08/imageedit_1_5696156038.jpg
ORGANIZER;CN="Institute of African Advancement":MAILTO:admin@isdpssa.org
END:VEVENT
BEGIN:VEVENT
DTSTART;TZID=America/Edmonton:20230825T080000
DTEND;TZID=America/Edmonton:20230825T170000
DTSTAMP:20260424T170441
CREATED:20230717T204420Z
LAST-MODIFIED:20230718T032800Z
UID:4104-1692950400-1692982800@isdpssa.org
SUMMARY:Walk Group
DESCRIPTION:By Eric Yamatu. \nThis is an event that will host 5 to 10 participants.  It is a physical exercise activity event hosted to help you get fit and stay healthy by participating in an Open fitness exercise Walk group  organized to enhance and maintain physical fitness and overall health and wellness.
URL:http://isdpssa.org/event/walk-group/
LOCATION:CN Tower\, 10004 - 104 Ave NW # 1100\, Edmonton\, Alberta\, T5J 0K1\, Canada
CATEGORIES:Increasing Physical Activity
ATTACH;FMTTYPE=image/jpeg:http://isdpssa.org/wp-content/uploads/2023/07/happy-african-american-woman-with-earphones-running-park-scaled.jpg
ORGANIZER;CN="Institute of African Advancement":MAILTO:admin@isdpssa.org
END:VEVENT
END:VCALENDAR