BEGIN:VCALENDAR
VERSION:2.0
PRODID:-//Institute of African Advancement - ECPv6.15.3//NONSGML v1.0//EN
CALSCALE:GREGORIAN
METHOD:PUBLISH
X-WR-CALNAME:Institute of African Advancement
X-ORIGINAL-URL:http://isdpssa.org
X-WR-CALDESC:Events for Institute of African Advancement
REFRESH-INTERVAL;VALUE=DURATION:PT1H
X-Robots-Tag:noindex
X-PUBLISHED-TTL:PT1H
BEGIN:VTIMEZONE
TZID:UTC
BEGIN:STANDARD
TZOFFSETFROM:+0000
TZOFFSETTO:+0000
TZNAME:UTC
DTSTART:20230101T000000
END:STANDARD
END:VTIMEZONE
BEGIN:VEVENT
DTSTART;TZID=UTC:20230904T110000
DTEND;TZID=UTC:20230904T170000
DTSTAMP:20260424T172355
CREATED:20230831T012627Z
LAST-MODIFIED:20230831T043511Z
UID:4186-1693825200-1693846800@isdpssa.org
SUMMARY:Parents and Back to School Season
DESCRIPTION:By Alisa Ramazani. \nThis event is an individual participating discussion whereby a person chooses to speak about a topic\, situation\, or circumstances that will build community understanding\, capacity\, and educate the public in general.
URL:http://isdpssa.org/event/parents-and-back-to-school-season/
LOCATION:CN Tower\, 10004 - 104 Ave NW # 1100\, Edmonton\, Alberta\, T5J 0K1\, Canada
CATEGORIES:Individual Emphasis Discussions
ATTACH;FMTTYPE=image/jpeg:http://isdpssa.org/wp-content/uploads/2023/08/portrait-young-woman-with-laptop-hands-outside-school-scaled.jpg
ORGANIZER;CN="Institute of African Advancement":MAILTO:admin@isdpssa.org
END:VEVENT
BEGIN:VEVENT
DTSTART;TZID=UTC:20230801T150000
DTEND;TZID=UTC:20230801T170000
DTSTAMP:20260424T172355
CREATED:20230717T180424Z
LAST-MODIFIED:20230717T194101Z
UID:4071-1690902000-1690909200@isdpssa.org
SUMMARY:Women in our community
DESCRIPTION:By Erica Jonas. \nThis event is an individual participating discussion whereby Erica Jonas will speak and discuss about Women in our community\,  the situation and circumstances to build understanding\, capacity\, and educate the public in general on women in the community.
URL:http://isdpssa.org/event/women-in-our-community/
LOCATION:CN Tower\, 10004 - 104 Ave NW # 1100\, Edmonton\, Alberta\, T5J 0K1\, Canada
CATEGORIES:Individual Emphasis Discussions
ATTACH;FMTTYPE=image/jpeg:http://isdpssa.org/wp-content/uploads/2023/07/front-view-confident-woman-studio-scaled.jpg
ORGANIZER;CN="Institute of African Advancement":MAILTO:admin@isdpssa.org
END:VEVENT
END:VCALENDAR