BEGIN:VCALENDAR
VERSION:2.0
PRODID:-//Institute of African Advancement - ECPv6.15.3//NONSGML v1.0//EN
CALSCALE:GREGORIAN
METHOD:PUBLISH
X-WR-CALNAME:Institute of African Advancement
X-ORIGINAL-URL:http://isdpssa.org
X-WR-CALDESC:Events for Institute of African Advancement
REFRESH-INTERVAL;VALUE=DURATION:PT1H
X-Robots-Tag:noindex
X-PUBLISHED-TTL:PT1H
BEGIN:VTIMEZONE
TZID:UTC
BEGIN:STANDARD
TZOFFSETFROM:+0000
TZOFFSETTO:+0000
TZNAME:UTC
DTSTART:20230101T000000
END:STANDARD
END:VTIMEZONE
BEGIN:VEVENT
DTSTART;TZID=UTC:20230804T140000
DTEND;TZID=UTC:20230804T170000
DTSTAMP:20260424T171604
CREATED:20230717T195351Z
LAST-MODIFIED:20230717T195455Z
UID:4088-1691157600-1691168400@isdpssa.org
SUMMARY:Mental Health Awareness
DESCRIPTION:By Thomas Augustus. \nJohn Dominic. \nTitus Lumona. \nMental health is a state of mental well-being that enables people to cope with the stresses of life\, realize their abilities\, learn well and work well\, and contribute to their community. This event will take place to build community capacity and awareness on mental health and well-being.
URL:http://isdpssa.org/event/mental-health-awareness/
LOCATION:CN Tower\, 10004 - 104 Ave NW # 1100\, Edmonton\, Alberta\, T5J 0K1\, Canada
CATEGORIES:Panel Discussions
ATTACH;FMTTYPE=image/jpeg:http://isdpssa.org/wp-content/uploads/2023/07/close-up-woman-expressing-revolution-message-scaled.jpg
ORGANIZER;CN="Institute of African Advancement":MAILTO:admin@isdpssa.org
END:VEVENT
END:VCALENDAR