BEGIN:VCALENDAR
VERSION:2.0
PRODID:-//Institute of African Advancement - ECPv6.15.3//NONSGML v1.0//EN
CALSCALE:GREGORIAN
METHOD:PUBLISH
X-ORIGINAL-URL:http://isdpssa.org
X-WR-CALDESC:Events for Institute of African Advancement
REFRESH-INTERVAL;VALUE=DURATION:PT1H
X-Robots-Tag:noindex
X-PUBLISHED-TTL:PT1H
BEGIN:VTIMEZONE
TZID:UTC
BEGIN:STANDARD
TZOFFSETFROM:+0000
TZOFFSETTO:+0000
TZNAME:UTC
DTSTART:20230101T000000
END:STANDARD
END:VTIMEZONE
BEGIN:VEVENT
DTSTART;TZID=UTC:20230802T140000
DTEND;TZID=UTC:20230802T170000
DTSTAMP:20260424T172432
CREATED:20230717T194204Z
LAST-MODIFIED:20230717T194204Z
UID:4082-1690984800-1690995600@isdpssa.org
SUMMARY:Creating Connections
DESCRIPTION:By Joseph Fisher. \nCreating connections information session will be present by Joseph Fisher from Edmonton IDPS  who will provide information on available opportunities\, facilities\, and services form young and adults community members to take advantage of.
URL:http://isdpssa.org/event/creating-connections/
LOCATION:CN Tower\, 10004 - 104 Ave NW # 1100\, Edmonton\, Alberta\, T5J 0K1\, Canada
CATEGORIES:Recruitment and Information Sessions
ATTACH;FMTTYPE=image/jpeg:http://isdpssa.org/wp-content/uploads/2023/07/african-american-happy-successful-man-suit-glasses-black-business-man-scaled.jpg
ORGANIZER;CN="Institute of African Advancement":MAILTO:admin@isdpssa.org
END:VEVENT
END:VCALENDAR